BEGIN:VCALENDAR
VERSION:2.0
PRODID:-//Visit West Alabama - ECPv6.15.20//NONSGML v1.0//EN
CALSCALE:GREGORIAN
METHOD:PUBLISH
X-ORIGINAL-URL:https://www.tourwestalabama.com
X-WR-CALDESC:Events for Visit West Alabama
REFRESH-INTERVAL;VALUE=DURATION:PT1H
X-Robots-Tag:noindex
X-PUBLISHED-TTL:PT1H
BEGIN:VTIMEZONE
TZID:America/Chicago
BEGIN:DAYLIGHT
TZOFFSETFROM:-0600
TZOFFSETTO:-0500
TZNAME:CDT
DTSTART:20170312T080000
END:DAYLIGHT
BEGIN:STANDARD
TZOFFSETFROM:-0500
TZOFFSETTO:-0600
TZNAME:CST
DTSTART:20171105T070000
END:STANDARD
BEGIN:DAYLIGHT
TZOFFSETFROM:-0600
TZOFFSETTO:-0500
TZNAME:CDT
DTSTART:20180311T080000
END:DAYLIGHT
BEGIN:STANDARD
TZOFFSETFROM:-0500
TZOFFSETTO:-0600
TZNAME:CST
DTSTART:20181104T070000
END:STANDARD
BEGIN:DAYLIGHT
TZOFFSETFROM:-0600
TZOFFSETTO:-0500
TZNAME:CDT
DTSTART:20190310T080000
END:DAYLIGHT
BEGIN:STANDARD
TZOFFSETFROM:-0500
TZOFFSETTO:-0600
TZNAME:CST
DTSTART:20191103T070000
END:STANDARD
END:VTIMEZONE
BEGIN:VEVENT
DTSTART;TZID=America/Chicago:20180701T173000
DTEND;TZID=America/Chicago:20180701T193000
DTSTAMP:20260422T063910
CREATED:20180628T155101Z
LAST-MODIFIED:20180628T155101Z
UID:10002158-1530466200-1530473400@www.tourwestalabama.com
SUMMARY:Live Jazz with Jerry Robbins
DESCRIPTION:Live Smooth Jazz and Blues with Jerry Robbins at the Black Warrior Brewery.
URL:https://www.tourwestalabama.com/event/live-jazz-with-jerry-robbins/
END:VEVENT
BEGIN:VEVENT
DTSTART;TZID=America/Chicago:20180705T170000
DTEND;TZID=America/Chicago:20180705T200000
DTSTAMP:20260422T063910
CREATED:20180628T154703Z
LAST-MODIFIED:20180628T154703Z
UID:10002159-1530810000-1530820800@www.tourwestalabama.com
SUMMARY:July Art Night
DESCRIPTION:Join Kentuck Art Center for July Art Night featuring exhibits from Missionary Mary Proctor in the Museum Gallery and Colonel Lee Busby (Ret.) in the Teer Gallery. Live music and pop-up shops in the Courtyard of Wonder!
URL:https://www.tourwestalabama.com/event/july-art-night-2/
LOCATION:Kentuck Art Center\, 503 Main Avenue \, Northport \, AL\, 35473\, United States
GEO:33.2190841;-87.5782856
X-APPLE-STRUCTURED-LOCATION;VALUE=URI;X-ADDRESS=Kentuck Art Center 503 Main Avenue  Northport  AL 35473 United States;X-APPLE-RADIUS=500;X-TITLE=503 Main Avenue:geo:-87.5782856,33.2190841
END:VEVENT
BEGIN:VEVENT
DTSTART;TZID=America/Chicago:20180707T190000
DTEND;TZID=America/Chicago:20180707T220000
DTSTAMP:20260422T063910
CREATED:20180628T163710Z
LAST-MODIFIED:20180628T163710Z
UID:10002163-1530990000-1531000800@www.tourwestalabama.com
SUMMARY:Live Music: Kyle Mercer
DESCRIPTION:Back for a double feature night Friday AND Saturday! Come enjoy the musical talents of Kyle Mercer all the way from Tennessee!
URL:https://www.tourwestalabama.com/event/live-music-kyle-mercer/
LOCATION:the brass tap\, 1800 McFarland Boulevard\, Tuscaloosa\, AL\, 35404\, United States
GEO:33.1943681;-87.5272067
X-APPLE-STRUCTURED-LOCATION;VALUE=URI;X-ADDRESS=the brass tap 1800 McFarland Boulevard Tuscaloosa AL 35404 United States;X-APPLE-RADIUS=500;X-TITLE=1800 McFarland Boulevard:geo:-87.5272067,33.1943681
END:VEVENT
BEGIN:VEVENT
DTSTART;TZID=America/Chicago:20180714T193000
DTEND;TZID=America/Chicago:20180714T213000
DTSTAMP:20260422T063910
CREATED:20180628T155142Z
LAST-MODIFIED:20180628T155142Z
UID:10001931-1531596600-1531603800@www.tourwestalabama.com
SUMMARY:Alabama Blues Week Concert
DESCRIPTION:Buy your tickets now for the Alabama Blues Week Concert. Renowned blues artists\, faculty and talented students will perform at the Moody Music Auditorium\, July 14 at 7:30 p.m. Tickets are $10 per person and may be purchased online at alblues.com or by calling 205-348-3000. Visit alblues.com for a full list of live blues performances scheduled in and around Tuscaloosa the week of July 9-15. Follow us on Facebook @alabamabluesproject and Twitter and Instagram @alblueweek
URL:https://www.tourwestalabama.com/event/alabama-blues-week-concert/
LOCATION:Moody Music Building\, 810 2nd Ave\, Tuscaloosa\, AL\, 35401\, United States
GEO:33.207445;-87.5384116
X-APPLE-STRUCTURED-LOCATION;VALUE=URI;X-ADDRESS=Moody Music Building 810 2nd Ave Tuscaloosa AL 35401 United States;X-APPLE-RADIUS=500;X-TITLE=810 2nd Ave:geo:-87.5384116,33.207445
END:VEVENT
BEGIN:VEVENT
DTSTART;TZID=America/Chicago:20180728T090000
DTEND;TZID=America/Chicago:20180728T163000
DTSTAMP:20260422T063910
CREATED:20180628T160825Z
LAST-MODIFIED:20180628T160825Z
UID:10001933-1532768400-1532795400@www.tourwestalabama.com
SUMMARY:Hogwarts Day at The Children's Hands-On Museum
DESCRIPTION:Hogwarts Day at CHOM! Saturday July 28\, 2018 9 am – 4:30 pm Design your own wand! Create your House Tie! Adopt a magical creature! Potions demonstrations! Have a Chocolate Frog! Try some “Every Flavor Beans!” Costumes Welcome!!!
URL:https://www.tourwestalabama.com/event/hogwarts-day-at-the-childrens-hands-on-museum/
LOCATION:Children’s Hands-On Museum\, 2213 University Blvd\, Tuscaloosa\, AL\, 35401\, United States
GEO:33.2100725;-87.5661548
X-APPLE-STRUCTURED-LOCATION;VALUE=URI;X-ADDRESS=Children’s Hands-On Museum 2213 University Blvd Tuscaloosa AL 35401 United States;X-APPLE-RADIUS=500;X-TITLE=2213 University Blvd:geo:-87.5661548,33.2100725
END:VEVENT
END:VCALENDAR