BEGIN:VCALENDAR
VERSION:2.0
PRODID:-//Visit West Alabama - ECPv6.15.20//NONSGML v1.0//EN
CALSCALE:GREGORIAN
METHOD:PUBLISH
X-ORIGINAL-URL:https://www.tourwestalabama.com
X-WR-CALDESC:Events for Visit West Alabama
REFRESH-INTERVAL;VALUE=DURATION:PT1H
X-Robots-Tag:noindex
X-PUBLISHED-TTL:PT1H
BEGIN:VTIMEZONE
TZID:America/Chicago
BEGIN:DAYLIGHT
TZOFFSETFROM:-0600
TZOFFSETTO:-0500
TZNAME:CDT
DTSTART:20240310T080000
END:DAYLIGHT
BEGIN:STANDARD
TZOFFSETFROM:-0500
TZOFFSETTO:-0600
TZNAME:CST
DTSTART:20241103T070000
END:STANDARD
BEGIN:DAYLIGHT
TZOFFSETFROM:-0600
TZOFFSETTO:-0500
TZNAME:CDT
DTSTART:20250309T080000
END:DAYLIGHT
BEGIN:STANDARD
TZOFFSETFROM:-0500
TZOFFSETTO:-0600
TZNAME:CST
DTSTART:20251102T070000
END:STANDARD
BEGIN:DAYLIGHT
TZOFFSETFROM:-0600
TZOFFSETTO:-0500
TZNAME:CDT
DTSTART:20260308T080000
END:DAYLIGHT
BEGIN:STANDARD
TZOFFSETFROM:-0500
TZOFFSETTO:-0600
TZNAME:CST
DTSTART:20261101T070000
END:STANDARD
END:VTIMEZONE
BEGIN:VEVENT
DTSTART;TZID=America/Chicago:20251004T080000
DTEND;TZID=America/Chicago:20251004T170000
DTSTAMP:20260420T013331
CREATED:20250507T022931Z
LAST-MODIFIED:20250507T022931Z
UID:10003393-1759564800-1759597200@www.tourwestalabama.com
SUMMARY:2025 Gee’s Bend Airing of the Quilts Festival
DESCRIPTION:Mark your calendar for Saturday\, October 4\, 2025\, and join the Gee’s Bend community in Boykin\, Alabama\, for the Airing of the Quilts Festival. This cherished event showcases generations-old quiltmaking traditions with displays and sales of handcrafted quilts\, engaging workshops\, live demonstrations\, guided tours\, local cuisine\, and more. It’s a unique opportunity to connect with the artisans and immerse yourself in the stories woven into each quilt.
URL:https://www.tourwestalabama.com/event/2025-gees-bend-airing-of-the-quilts-festival/
LOCATION:Gee’s Bend Welcome Center\, 12021 Co. Rd. 29\, Boykin\, AL\, 36723\, United States
ATTACH;FMTTYPE=image/jpeg:https://www.tourwestalabama.com/wp-content/uploads/2025/05/MGCreative_AotQ-aerial-view.jpg
END:VEVENT
BEGIN:VEVENT
DTSTART;TZID=America/Chicago:20251020T100000
DTEND;TZID=America/Chicago:20251020T160000
DTSTAMP:20260420T013331
CREATED:20250602T192220Z
LAST-MODIFIED:20250602T192220Z
UID:10003405-1760954400-1760976000@www.tourwestalabama.com
SUMMARY:Tuscaloosa Oktoberfest
DESCRIPTION:Join us for a spectacular celebration as Tuscaloosa transforms Government Plaza into a vibrant hub of German Culture and festivity. With Tuscaloosa County’s rich connections to Germany\, we desire to create an authentic festival for everyone located in the heart of Downtown Tuscaloosa. Delight in a day of family-friendly fun\, live music\, Daschound races\, activities and contests\, good food\, and of course… beer. Immerse yourself in the lively atmosphere of Tuscaloosa Oktoberfest!
URL:https://www.tourwestalabama.com/event/tuscaloosa-oktoberfest/
LOCATION:Tuscaloosa Government Plaza\, 618 21st Ave\, Tuscaloosa\, 35401\, United States
END:VEVENT
END:VCALENDAR