BEGIN:VCALENDAR
VERSION:2.0
PRODID:-//Visit West Alabama - ECPv6.15.20//NONSGML v1.0//EN
CALSCALE:GREGORIAN
METHOD:PUBLISH
X-WR-CALNAME:Visit West Alabama
X-ORIGINAL-URL:https://www.tourwestalabama.com
X-WR-CALDESC:Events for Visit West Alabama
REFRESH-INTERVAL;VALUE=DURATION:PT1H
X-Robots-Tag:noindex
X-PUBLISHED-TTL:PT1H
BEGIN:VTIMEZONE
TZID:America/Chicago
BEGIN:DAYLIGHT
TZOFFSETFROM:-0600
TZOFFSETTO:-0500
TZNAME:CDT
DTSTART:20150308T080000
END:DAYLIGHT
BEGIN:STANDARD
TZOFFSETFROM:-0500
TZOFFSETTO:-0600
TZNAME:CST
DTSTART:20151101T070000
END:STANDARD
BEGIN:DAYLIGHT
TZOFFSETFROM:-0600
TZOFFSETTO:-0500
TZNAME:CDT
DTSTART:20160313T080000
END:DAYLIGHT
BEGIN:STANDARD
TZOFFSETFROM:-0500
TZOFFSETTO:-0600
TZNAME:CST
DTSTART:20161106T070000
END:STANDARD
BEGIN:DAYLIGHT
TZOFFSETFROM:-0600
TZOFFSETTO:-0500
TZNAME:CDT
DTSTART:20170312T080000
END:DAYLIGHT
BEGIN:STANDARD
TZOFFSETFROM:-0500
TZOFFSETTO:-0600
TZNAME:CST
DTSTART:20171105T070000
END:STANDARD
END:VTIMEZONE
BEGIN:VEVENT
DTSTART;TZID=America/Chicago:20160212T190000
DTEND;TZID=America/Chicago:20160212T230000
DTSTAMP:20260422T175303
CREATED:20160204T165538Z
LAST-MODIFIED:20160204T165538Z
UID:10001871-1455303600-1455318000@www.tourwestalabama.com
SUMMARY:The Black Jacket Symphony
DESCRIPTION:***Tickets on sale 9/18*** The Black Jacket Symphony: The Eagles’ Hotel California Tickets are $25 and $30. Password pre-sale begins Wednesday\, September 16 at 10:00 AM CST and concludes Thursday\, September 17 at 10:00 PM CST. Pre-sale password: HOWDY On Sale: Friday\, September 18 at 10:00 AM CST Tickets are available online through Ticketfly: http://ticketf.ly/1UPGHbs Tickets are also available by calling 877-987-6487. All Ages | Reserved Seating Doors are at 7:00 PM | Show at 8:00 PM For more information about the artist\, please visit https://www.facebook.com/blackjacketsymphony?fref=ts
URL:https://www.tourwestalabama.com/event/the-black-jacket-symphony/
LOCATION:Bama Theatre Galleries\, 600 Greensboro Avenue \, Tuscaloosa\, AL\, 35401\, United States
ATTACH;FMTTYPE=image/jpeg:https://www.tourwestalabama.com/wp-content/uploads/2016/02/12032049_10152975877686021_7426448244719686071_n.jpg
GEO:33.208439;-87.568186
X-APPLE-STRUCTURED-LOCATION;VALUE=URI;X-ADDRESS=Bama Theatre Galleries 600 Greensboro Avenue  Tuscaloosa AL 35401 United States;X-APPLE-RADIUS=500;X-TITLE=600 Greensboro Avenue:geo:-87.568186,33.208439
END:VEVENT
BEGIN:VEVENT
DTSTART;TZID=America/Chicago:20160212T193000
DTEND;TZID=America/Chicago:20160212T193000
DTSTAMP:20260422T175303
CREATED:20160115T203020Z
LAST-MODIFIED:20160115T203037Z
UID:10001739-1455305400-1455305400@www.tourwestalabama.com
SUMMARY:The Glass Menagerie
DESCRIPTION:A drama of great tenderness\, charm\, and beauty\, The Glass Menagerie is one of the most famous plays of the modern theatre. Set in St. Louis in the late 1930’s\, the story is told from the memory of Tom\, who recounts his life with his overbearing mother Amanda and the illusions that she spins to save her daughter Laura and herself from the reality of their frail existence. After winning the New York Drama Critics Circle Award\, The Glass Menagerie launched Tennessee Williams into the national spotlight.  It’s a must-see American play. \nPerformance Details\nFriday\, February 12th at 7:30 PM \nSaturday\, February 13th at 7:30 PM \nSunday\, February 14th at 2 PM \nWednesday\, February 17th at 2 PM \nThursday\, February 18th at 7:30 PM \nFriday\, February 19th at 7:30 PM \nSaturday\, February 20th at 2 PM *NEW TIME FOR SECOND SATURDAYS! \nSunday\, February 21st at 2 PM
URL:https://www.tourwestalabama.com/event/the-glass-menagerie/2016-02-12/
LOCATION:Bean-Brown Theatre\, 9500 Old Greensboro Road\, Tuscaloosa\, 3505\, United States
ATTACH;FMTTYPE=image/jpeg:https://www.tourwestalabama.com/wp-content/uploads/2016/01/GlassMenagerie.jpg
GEO:33.1196984;-87.561636
X-APPLE-STRUCTURED-LOCATION;VALUE=URI;X-ADDRESS=Bean-Brown Theatre 9500 Old Greensboro Road Tuscaloosa 3505 United States;X-APPLE-RADIUS=500;X-TITLE=9500 Old Greensboro Road:geo:-87.561636,33.1196984
END:VEVENT
BEGIN:VEVENT
DTSTART;TZID=America/Chicago:20160213T110000
DTEND;TZID=America/Chicago:20160213T140000
DTSTAMP:20260422T175303
CREATED:20151203T212708Z
LAST-MODIFIED:20151203T212708Z
UID:10001834-1455361200-1455372000@www.tourwestalabama.com
SUMMARY:The 10th Annual Great Tuscaloosa Chili Cookoff
DESCRIPTION:The Exchange Club’s 10th Annual Great Tuscaloosa Chili Cookoff is set for Saturday\, Feb. 13\, 2016 at the Bryant Conference Center. The event includes children’s activities\, live entertainment\, soda and beer\, free ice cream\, free cheese biscuits\, apron sales\, and the privilege of sampling forty varieties of chili and voting for your favorite. Awards are given for Best Judged Chili\, People’s Choice Chili\, Best Booth\, Best Costumes\, and Best Showmanship. Also\, there will be opportunities for attendees to win valuable prizes. The funds raised by the Chili Cookoff are used for the Exchange Club’s work in Child Abuse Prevention\, Youth Development\, Community Services\, and Honoring America projects.
URL:https://www.tourwestalabama.com/event/the-10th-annual-great-tuscaloosa-chili-cookoff/
LOCATION:Bryant Conference Center\, 240 Bryant Drive \, Tuscaloosa\, AL\, 35401\, United States
ATTACH;FMTTYPE=image/jpeg:https://www.tourwestalabama.com/wp-content/uploads/2015/12/dsc0156-1.jpeg
GEO:33.2063436;-87.5387658
X-APPLE-STRUCTURED-LOCATION;VALUE=URI;X-ADDRESS=Bryant Conference Center 240 Bryant Drive  Tuscaloosa AL 35401 United States;X-APPLE-RADIUS=500;X-TITLE=240 Bryant Drive:geo:-87.5387658,33.2063436
END:VEVENT
BEGIN:VEVENT
DTSTART;TZID=America/Chicago:20160213T150000
DTEND;TZID=America/Chicago:20160213T220000
DTSTAMP:20260422T175303
CREATED:20160127T193733Z
LAST-MODIFIED:20160127T193733Z
UID:10001869-1455375600-1455400800@www.tourwestalabama.com
SUMMARY:4th Annual Tuscaloosa African Film Festival
DESCRIPTION:This event is an annual fundraiser to support community health and education programs of Tuscaloosa based non-profits\, EAUMF in Ghana and Afram South in West Alabama. 3 shorts from Kenya\, South Africa and Ghana along with a feature from South Sudan will be screened at the historic Bama Theatre in Tuscaloosa. If you cannot attend you can make a tax-deductible donation at eaumf.org
URL:https://www.tourwestalabama.com/event/4th-annual-tuscaloosa-african-film-festival/
LOCATION:Bama Theatre Galleries\, 600 Greensboro Avenue \, Tuscaloosa\, AL\, 35401\, United States
GEO:33.208439;-87.568186
X-APPLE-STRUCTURED-LOCATION;VALUE=URI;X-ADDRESS=Bama Theatre Galleries 600 Greensboro Avenue  Tuscaloosa AL 35401 United States;X-APPLE-RADIUS=500;X-TITLE=600 Greensboro Avenue:geo:-87.568186,33.208439
END:VEVENT
BEGIN:VEVENT
DTSTART;TZID=America/Chicago:20160213T193000
DTEND;TZID=America/Chicago:20160213T193000
DTSTAMP:20260422T175303
CREATED:20160115T203020Z
LAST-MODIFIED:20160115T203037Z
UID:10001740-1455391800-1455391800@www.tourwestalabama.com
SUMMARY:The Glass Menagerie
DESCRIPTION:A drama of great tenderness\, charm\, and beauty\, The Glass Menagerie is one of the most famous plays of the modern theatre. Set in St. Louis in the late 1930’s\, the story is told from the memory of Tom\, who recounts his life with his overbearing mother Amanda and the illusions that she spins to save her daughter Laura and herself from the reality of their frail existence. After winning the New York Drama Critics Circle Award\, The Glass Menagerie launched Tennessee Williams into the national spotlight.  It’s a must-see American play. \nPerformance Details\nFriday\, February 12th at 7:30 PM \nSaturday\, February 13th at 7:30 PM \nSunday\, February 14th at 2 PM \nWednesday\, February 17th at 2 PM \nThursday\, February 18th at 7:30 PM \nFriday\, February 19th at 7:30 PM \nSaturday\, February 20th at 2 PM *NEW TIME FOR SECOND SATURDAYS! \nSunday\, February 21st at 2 PM
URL:https://www.tourwestalabama.com/event/the-glass-menagerie/2016-02-13/
LOCATION:Bean-Brown Theatre\, 9500 Old Greensboro Road\, Tuscaloosa\, 3505\, United States
ATTACH;FMTTYPE=image/jpeg:https://www.tourwestalabama.com/wp-content/uploads/2016/01/GlassMenagerie.jpg
GEO:33.1196984;-87.561636
X-APPLE-STRUCTURED-LOCATION;VALUE=URI;X-ADDRESS=Bean-Brown Theatre 9500 Old Greensboro Road Tuscaloosa 3505 United States;X-APPLE-RADIUS=500;X-TITLE=9500 Old Greensboro Road:geo:-87.561636,33.1196984
END:VEVENT
END:VCALENDAR