BEGIN:VCALENDAR
VERSION:2.0
PRODID:-//Visit West Alabama - ECPv6.15.20//NONSGML v1.0//EN
CALSCALE:GREGORIAN
METHOD:PUBLISH
X-WR-CALNAME:Visit West Alabama
X-ORIGINAL-URL:https://www.tourwestalabama.com
X-WR-CALDESC:Events for Visit West Alabama
REFRESH-INTERVAL;VALUE=DURATION:PT1H
X-Robots-Tag:noindex
X-PUBLISHED-TTL:PT1H
BEGIN:VTIMEZONE
TZID:America/Chicago
BEGIN:DAYLIGHT
TZOFFSETFROM:-0600
TZOFFSETTO:-0500
TZNAME:CDT
DTSTART:20150308T080000
END:DAYLIGHT
BEGIN:STANDARD
TZOFFSETFROM:-0500
TZOFFSETTO:-0600
TZNAME:CST
DTSTART:20151101T070000
END:STANDARD
BEGIN:DAYLIGHT
TZOFFSETFROM:-0600
TZOFFSETTO:-0500
TZNAME:CDT
DTSTART:20160313T080000
END:DAYLIGHT
BEGIN:STANDARD
TZOFFSETFROM:-0500
TZOFFSETTO:-0600
TZNAME:CST
DTSTART:20161106T070000
END:STANDARD
BEGIN:DAYLIGHT
TZOFFSETFROM:-0600
TZOFFSETTO:-0500
TZNAME:CDT
DTSTART:20170312T080000
END:DAYLIGHT
BEGIN:STANDARD
TZOFFSETFROM:-0500
TZOFFSETTO:-0600
TZNAME:CST
DTSTART:20171105T070000
END:STANDARD
END:VTIMEZONE
BEGIN:VEVENT
DTSTART;TZID=America/Chicago:20160227T100000
DTEND;TZID=America/Chicago:20160227T130000
DTSTAMP:20260421T231517
CREATED:20151203T221152Z
LAST-MODIFIED:20151203T221152Z
UID:10001735-1456567200-1456578000@www.tourwestalabama.com
SUMMARY:Krispy Kreme Challenge
DESCRIPTION:What begins as a normal race\, the Tuscaloosa Krispy Kreme Challenge\, has an unusual twist. Participants of the race will begin at the Start line\, run one mile\, pick up one dozen doughnuts\, eat the doughnuts and run one mile back to the finish line. In our 4th year\, we look forward to seeing all of the biggest doughnut fans on February 27\, 2016!\nThis is a spectacle and intended to simply be good wholesome family fun. All ages are invited to attend! And note – you do not have to eat the doughnuts to participate. Remember\, this event is a fundraiser for our community’s kids in need through the Big Brothers Big Sisters of West Alabama!
URL:https://www.tourwestalabama.com/event/krispy-kreme-challenge/
LOCATION:Government Plaza\, 2106 6th Street\, Tuscaloosa\, 35401
ATTACH;FMTTYPE=image/jpeg:https://www.tourwestalabama.com/wp-content/uploads/2015/12/68966h_Krispy_Kreme-Challenge.jpg
ORGANIZER;CN="Big Brothers Big Sisters of West Alabama":MAILTO:danielle@bbbswestal.org
GEO:33.20868;-87.5648392
X-APPLE-STRUCTURED-LOCATION;VALUE=URI;X-ADDRESS=Government Plaza 2106 6th Street Tuscaloosa 35401;X-APPLE-RADIUS=500;X-TITLE=2106 6th Street:geo:-87.5648392,33.20868
END:VEVENT
BEGIN:VEVENT
DTSTART;TZID=America/Chicago:20160227T100000
DTEND;TZID=America/Chicago:20160227T140000
DTSTAMP:20260421T231517
CREATED:20160127T180902Z
LAST-MODIFIED:20160127T180902Z
UID:10001865-1456567200-1456581600@www.tourwestalabama.com
SUMMARY:Kidabaloo
DESCRIPTION:Kidabaloo is a fun-filled day for the whole family! Enjoy games\, crafts\, live entertainment and so much more while also getting a chance to interact with local businesses in your community. Get the kids out of the house and in to Kidabaloo! Kidabaloo special guest Brec Bassinger stars as Bella in the hit Nickelodeon show “Bella and the Bulldogs”. Bella is a popular head cheerleader whose life takes an unexpected twist when she becomes the quarterback of her middle school football team. Tickets for Kidabaloo are on sale now at www.kidabaloo.com. V.I.P. Tickets that include a special 30 minute pre-party meet & greet party are $30 and include general admission into the event. Advance general admission tickets are $7 kids and $5 adults. Prices at the door will be $10 kids/$5 adults
URL:https://www.tourwestalabama.com/event/kidabaloo/
LOCATION:Belk Center\, 2101 Bowers Park Dr\, Tuscaloosa\, AL\, 35405\, United States
ATTACH;FMTTYPE=image/png:https://www.tourwestalabama.com/wp-content/uploads/2016/01/ads-82953-1452755143.33.png
GEO:33.1765242;-87.5105593
X-APPLE-STRUCTURED-LOCATION;VALUE=URI;X-ADDRESS=Belk Center 2101 Bowers Park Dr Tuscaloosa AL 35405 United States;X-APPLE-RADIUS=500;X-TITLE=2101 Bowers Park Dr:geo:-87.5105593,33.1765242
END:VEVENT
END:VCALENDAR