BEGIN:VCALENDAR
VERSION:2.0
PRODID:-//Visit West Alabama - ECPv6.15.20//NONSGML v1.0//EN
CALSCALE:GREGORIAN
METHOD:PUBLISH
X-ORIGINAL-URL:https://www.tourwestalabama.com
X-WR-CALDESC:Events for Visit West Alabama
REFRESH-INTERVAL;VALUE=DURATION:PT1H
X-Robots-Tag:noindex
X-PUBLISHED-TTL:PT1H
BEGIN:VTIMEZONE
TZID:America/Chicago
BEGIN:DAYLIGHT
TZOFFSETFROM:-0600
TZOFFSETTO:-0500
TZNAME:CDT
DTSTART:20170312T080000
END:DAYLIGHT
BEGIN:STANDARD
TZOFFSETFROM:-0500
TZOFFSETTO:-0600
TZNAME:CST
DTSTART:20171105T070000
END:STANDARD
BEGIN:DAYLIGHT
TZOFFSETFROM:-0600
TZOFFSETTO:-0500
TZNAME:CDT
DTSTART:20180311T080000
END:DAYLIGHT
BEGIN:STANDARD
TZOFFSETFROM:-0500
TZOFFSETTO:-0600
TZNAME:CST
DTSTART:20181104T070000
END:STANDARD
BEGIN:DAYLIGHT
TZOFFSETFROM:-0600
TZOFFSETTO:-0500
TZNAME:CDT
DTSTART:20190310T080000
END:DAYLIGHT
BEGIN:STANDARD
TZOFFSETFROM:-0500
TZOFFSETTO:-0600
TZNAME:CST
DTSTART:20191103T070000
END:STANDARD
END:VTIMEZONE
BEGIN:VEVENT
DTSTART;TZID=America/Chicago:20180603T100000
DTEND;TZID=America/Chicago:20180603T160000
DTSTAMP:20260422T032157
CREATED:20170622T212521Z
LAST-MODIFIED:20180105T175335Z
UID:10001895-1528020000-1528041600@www.tourwestalabama.com
SUMMARY:5th Street Vintage Market
DESCRIPTION:Curated by This Ol’ Thing Vintage\, Grace Aberdean Habitat Alchemy and DJ Tom Kat Kitten\, 5th Street Vintage Market brings a one of a kind shopping experience to the area. We will feature many dealers from the region who specialize in vintage clothing\, furnishings and vinyl recordings.
URL:https://www.tourwestalabama.com/event/5th-street-vintage-market-7/
LOCATION:Northport Farmers Market\, 4150 5th Street\, Northport\, AL\, United States
ATTACH;FMTTYPE=image/jpeg:https://www.tourwestalabama.com/wp-content/uploads/2017/07/5thstreetlogowp.jpg
GEO:33.2204476;-87.5975469
X-APPLE-STRUCTURED-LOCATION;VALUE=URI;X-ADDRESS=Northport Farmers Market 4150 5th Street Northport AL United States;X-APPLE-RADIUS=500;X-TITLE=4150 5th Street:geo:-87.5975469,33.2204476
END:VEVENT
BEGIN:VEVENT
DTSTART;TZID=America/Chicago:20180603T180000
DTEND;TZID=America/Chicago:20180603T190000
DTSTAMP:20260422T032157
CREATED:20180509T140605Z
LAST-MODIFIED:20180509T140605Z
UID:10002156-1528048800-1528052400@www.tourwestalabama.com
SUMMARY:54th Annual Commemoration of Bloody Tuesday
DESCRIPTION:Bloody Tuesday was a march that occurred on June 9\, 1964 in Tuscaloosa\, Alabama during the Civil Rights Movement. The march was both organized and lead by Rev. T. Y. Rogers and was to protest against segregated drinking fountains and restrooms in the county courthouse. The protest consisted of a group of peaceful African Americans walking from The First African Baptist Church to the Tuscaloosa County Courthouse; however\, protesters did not get very far before being beaten\, arrested\, and tear gassed by not only police officers standing outside the church\, but as well a mob of angry white citizens. These events were similar to Bloody Sunday during the Selma to Montgomery marches\, which took place a year later and received an extensive amount of media coverage\, while there were no journalists to capture the events of Bloody Tuesday. During Bloody Tuesday thirty-three men\, women\, and children had to be hospitalized\, and ninety-four African Americans were arrested by police\, this all taking place right outside the church with the marchers not having an opportunity to get to the courthouse. Annually First African Baptist Church commemorates those brave men\, women and children who stood up for equality\, and human rights in the face of a world who thought they deserved less simply because of the color of their skin. Remembering and acknowledging the past can bring change and reconciliation in the future. The Tuscaloosa Civil Rights History Task Force will feature First African Baptist Church\, along with other important sites on the soon to be launched Tuscaloosa Civil Rights Trail later in June. This trail will allow Tuscaloosa’s important role in the Civil Rights Movement to be chronicled for tourists from around the world\, and in our own backyard in Alabama to learn about this important history. The 54th Annual Bloody Tuesday Commemorative is brought to you through a collaborative effort between the 10-4 Corporation and the Tuscaloosa Civil Rights Task Force in cooperation with the loving congregation of the First African Baptist Church. All are welcome!
URL:https://www.tourwestalabama.com/event/54th-annual-commemoration-of-bloody-tuesday/
LOCATION:First African Baptist Church\, 2621 Stillman Boulevard\, Tuscaloo\, 35401
ATTACH;FMTTYPE=image/jpeg:https://www.tourwestalabama.com/wp-content/uploads/2018/05/31959052_436448753462667_4867383984406921216_o-2.jpg
ORGANIZER;CN="Tuscaloosa Civil Rights History Task Force":MAILTO:experience.13.llc@gmail.com
GEO:33.2045904;-87.5704429
X-APPLE-STRUCTURED-LOCATION;VALUE=URI;X-ADDRESS=First African Baptist Church 2621 Stillman Boulevard Tuscaloo 35401;X-APPLE-RADIUS=500;X-TITLE=2621 Stillman Boulevard:geo:-87.5704429,33.2045904
END:VEVENT
END:VCALENDAR