BEGIN:VCALENDAR
VERSION:2.0
PRODID:-//Visit West Alabama - ECPv6.15.20//NONSGML v1.0//EN
CALSCALE:GREGORIAN
METHOD:PUBLISH
X-ORIGINAL-URL:https://www.tourwestalabama.com
X-WR-CALDESC:Events for Visit West Alabama
REFRESH-INTERVAL;VALUE=DURATION:PT1H
X-Robots-Tag:noindex
X-PUBLISHED-TTL:PT1H
BEGIN:VTIMEZONE
TZID:America/Chicago
BEGIN:DAYLIGHT
TZOFFSETFROM:-0600
TZOFFSETTO:-0500
TZNAME:CDT
DTSTART:20170312T080000
END:DAYLIGHT
BEGIN:STANDARD
TZOFFSETFROM:-0500
TZOFFSETTO:-0600
TZNAME:CST
DTSTART:20171105T070000
END:STANDARD
BEGIN:DAYLIGHT
TZOFFSETFROM:-0600
TZOFFSETTO:-0500
TZNAME:CDT
DTSTART:20180311T080000
END:DAYLIGHT
BEGIN:STANDARD
TZOFFSETFROM:-0500
TZOFFSETTO:-0600
TZNAME:CST
DTSTART:20181104T070000
END:STANDARD
BEGIN:DAYLIGHT
TZOFFSETFROM:-0600
TZOFFSETTO:-0500
TZNAME:CDT
DTSTART:20190310T080000
END:DAYLIGHT
BEGIN:STANDARD
TZOFFSETFROM:-0500
TZOFFSETTO:-0600
TZNAME:CST
DTSTART:20191103T070000
END:STANDARD
END:VTIMEZONE
BEGIN:VEVENT
DTSTART;TZID=America/Chicago:20180714T193000
DTEND;TZID=America/Chicago:20180714T213000
DTSTAMP:20260422T233011
CREATED:20180628T155142Z
LAST-MODIFIED:20180628T155142Z
UID:10001931-1531596600-1531603800@www.tourwestalabama.com
SUMMARY:Alabama Blues Week Concert
DESCRIPTION:Buy your tickets now for the Alabama Blues Week Concert. Renowned blues artists\, faculty and talented students will perform at the Moody Music Auditorium\, July 14 at 7:30 p.m. Tickets are $10 per person and may be purchased online at alblues.com or by calling 205-348-3000. Visit alblues.com for a full list of live blues performances scheduled in and around Tuscaloosa the week of July 9-15. Follow us on Facebook @alabamabluesproject and Twitter and Instagram @alblueweek
URL:https://www.tourwestalabama.com/event/alabama-blues-week-concert/
LOCATION:Moody Music Building\, 810 2nd Ave\, Tuscaloosa\, AL\, 35401\, United States
GEO:33.207445;-87.5384116
X-APPLE-STRUCTURED-LOCATION;VALUE=URI;X-ADDRESS=Moody Music Building 810 2nd Ave Tuscaloosa AL 35401 United States;X-APPLE-RADIUS=500;X-TITLE=810 2nd Ave:geo:-87.5384116,33.207445
END:VEVENT
END:VCALENDAR