BEGIN:VCALENDAR
VERSION:2.0
PRODID:-//Visit West Alabama - ECPv6.15.20//NONSGML v1.0//EN
CALSCALE:GREGORIAN
METHOD:PUBLISH
X-WR-CALNAME:Visit West Alabama
X-ORIGINAL-URL:https://www.tourwestalabama.com
X-WR-CALDESC:Events for Visit West Alabama
REFRESH-INTERVAL;VALUE=DURATION:PT1H
X-Robots-Tag:noindex
X-PUBLISHED-TTL:PT1H
BEGIN:VTIMEZONE
TZID:America/Chicago
BEGIN:DAYLIGHT
TZOFFSETFROM:-0600
TZOFFSETTO:-0500
TZNAME:CDT
DTSTART:20170312T080000
END:DAYLIGHT
BEGIN:STANDARD
TZOFFSETFROM:-0500
TZOFFSETTO:-0600
TZNAME:CST
DTSTART:20171105T070000
END:STANDARD
BEGIN:DAYLIGHT
TZOFFSETFROM:-0600
TZOFFSETTO:-0500
TZNAME:CDT
DTSTART:20180311T080000
END:DAYLIGHT
BEGIN:STANDARD
TZOFFSETFROM:-0500
TZOFFSETTO:-0600
TZNAME:CST
DTSTART:20181104T070000
END:STANDARD
BEGIN:DAYLIGHT
TZOFFSETFROM:-0600
TZOFFSETTO:-0500
TZNAME:CDT
DTSTART:20190310T080000
END:DAYLIGHT
BEGIN:STANDARD
TZOFFSETFROM:-0500
TZOFFSETTO:-0600
TZNAME:CST
DTSTART:20191103T070000
END:STANDARD
END:VTIMEZONE
BEGIN:VEVENT
DTSTART;TZID=America/Chicago:20181003T090000
DTEND;TZID=America/Chicago:20181006T170000
DTSTAMP:20260424T211217
CREATED:20180521T140950Z
LAST-MODIFIED:20180703T160107Z
UID:10002157-1538557200-1538845200@www.tourwestalabama.com
SUMMARY:Moundville Native American Festival 2018
DESCRIPTION:Mark your calendars — the 30th annual Moundville Native American Festival will be October 3 – 6\, 2018! \nWe will have Native American performers\, demonstrators\, living history teachers and crafts vendors here to teach and celebrate Native American culture. This is a great trip for school groups\, so share with your educator friends! Group booking is available in advance: email Kayla at kcscott1@ua.edu for information. See you there!
URL:https://www.tourwestalabama.com/event/native-american-festival-2018/
LOCATION:Moundville Archaeological Park\, 634 Mound Park\, Moundville\, AL\, 35474\, United States
ATTACH;FMTTYPE=image/jpeg:https://www.tourwestalabama.com/wp-content/uploads/2018/05/MAP_Saturday_Hoops.jpg
ORGANIZER;CN="The University of Alabama Museums":MAILTO:museum.programs@ua.edu
GEO:33.0027342;-87.628048
X-APPLE-STRUCTURED-LOCATION;VALUE=URI;X-ADDRESS=Moundville Archaeological Park 634 Mound Park Moundville AL 35474 United States;X-APPLE-RADIUS=500;X-TITLE=634 Mound Park:geo:-87.628048,33.0027342
END:VEVENT
BEGIN:VEVENT
DTSTART;TZID=America/Chicago:20181005T170000
DTEND;TZID=America/Chicago:20181005T210000
DTSTAMP:20260424T211217
CREATED:20180628T155826Z
LAST-MODIFIED:20180628T155826Z
UID:10001937-1538758800-1538773200@www.tourwestalabama.com
SUMMARY:301 Bistro's Octoberfest
DESCRIPTION:Octoberfest brings together the community for an authentic German celebration of food\, beer\, music\, and the arts.
URL:https://www.tourwestalabama.com/event/301-bistros-octoberfest/
END:VEVENT
BEGIN:VEVENT
DTSTART;TZID=America/Chicago:20181006T120000
DTEND;TZID=America/Chicago:20181006T180000
DTSTAMP:20260424T211217
CREATED:20180919T155550Z
LAST-MODIFIED:20180919T155550Z
UID:10002171-1538827200-1538848800@www.tourwestalabama.com
SUMMARY:Tuskaloosa Oktoberfest
DESCRIPTION:Tuscaloosa County Park & Recreation Authority and 3o1 Bistro will host the first Tuskaloosa Oktoberfest on October 6 at noon-6 p.m. located at 301 Greensboro Avenue in Central Downtown. \nThe Bavarian style festival is a fundraiser to benefit the Tuscaloosa All-Inclusive Playground to be built in Sokol Park. \nActivities will include the Buffalo Rock Pepsi stage featuring Oompah-Calypse\, an Oktoberfest band and a second authentic Americana band. \n  \nA Dachshund Dash and costume contest will benefit the Metro Animal Shelter. Attendees are encouraged to bring their Dachshund or Dachshund-mix to participate\, otherwise dogs are not allowed. Organizers request advance Dachshund registration to allow for all pets to be accommodated by visiting http://www.metroanimalshelter.org/dachshund-dash-2018/ \n  \n9Round Fitness is sponsor for the stein hoist competition. Prizes will be awarded to the person(s) holding a signature beer stein for the longest period of time. A beer purchase is required to participate. \n  \nA tented Biergarten with traditional long tables\, chicken dance competition and selfie station will add to the Bavarian style fun. \nBooths featuring local artists and their wares for sale will be an additional feature of the event. Artist booth details are available by visiting http://www.tcpara.org/oktoberfest and clicking on the artist application button.
URL:https://www.tourwestalabama.com/event/tuskaloosa-oktoberfest/
LOCATION:3o1 Bistro\, Bar and Beer Garden\, 301 Greensboro Avenue\, Tuscaloosa\, 35401
ATTACH;FMTTYPE=image/png:https://www.tourwestalabama.com/wp-content/uploads/2018/09/oktoberfest-logo.png
ORGANIZER;CN="Tuscaloosa Couty Park and Recreation Authority":MAILTO:bbooker@tcpara.org
END:VEVENT
BEGIN:VEVENT
DTSTART;TZID=America/Chicago:20181006T140000
DTEND;TZID=America/Chicago:20181006T150000
DTSTAMP:20260424T211217
CREATED:20181003T155114Z
LAST-MODIFIED:20181003T155114Z
UID:10002172-1538834400-1538838000@www.tourwestalabama.com
SUMMARY:Oktoberfest Dachshund Dash
DESCRIPTION:We will sponsor a Dachshund Dash at Oktoberfest. Enter your Dachshund or Dachshund mix in our race. We will race in heats of 5 or 6. All the heat winners will race each other. The final 2 winners will receive a prize. There will be a separate costume contest. Registration forms can be picked up at Metro Animal Shelter or online.\nPlease come out and be a part of the fun!\nThere is no fee for the race\, but tickets to Oktoberfest will be $10 at the gate. For more information contact Jennifer Earp at jearp@metroanimalshelter.org.
URL:https://www.tourwestalabama.com/event/oktoberfest-dachshund-dash/
LOCATION:3o1 Bistro\, Bar and Beer Garden\, 301 Greensboro Avenue\, Tuscaloosa\, 35401
ATTACH;FMTTYPE=image/jpeg:https://www.tourwestalabama.com/wp-content/uploads/2018/10/Dachshund-Dash-flier2.jpg
END:VEVENT
END:VCALENDAR