BEGIN:VCALENDAR
VERSION:2.0
PRODID:-//Visit West Alabama - ECPv6.15.20//NONSGML v1.0//EN
CALSCALE:GREGORIAN
METHOD:PUBLISH
X-WR-CALNAME:Visit West Alabama
X-ORIGINAL-URL:https://www.tourwestalabama.com
X-WR-CALDESC:Events for Visit West Alabama
REFRESH-INTERVAL;VALUE=DURATION:PT1H
X-Robots-Tag:noindex
X-PUBLISHED-TTL:PT1H
BEGIN:VTIMEZONE
TZID:America/Chicago
BEGIN:DAYLIGHT
TZOFFSETFROM:-0600
TZOFFSETTO:-0500
TZNAME:CDT
DTSTART:20170312T080000
END:DAYLIGHT
BEGIN:STANDARD
TZOFFSETFROM:-0500
TZOFFSETTO:-0600
TZNAME:CST
DTSTART:20171105T070000
END:STANDARD
BEGIN:DAYLIGHT
TZOFFSETFROM:-0600
TZOFFSETTO:-0500
TZNAME:CDT
DTSTART:20180311T080000
END:DAYLIGHT
BEGIN:STANDARD
TZOFFSETFROM:-0500
TZOFFSETTO:-0600
TZNAME:CST
DTSTART:20181104T070000
END:STANDARD
BEGIN:DAYLIGHT
TZOFFSETFROM:-0600
TZOFFSETTO:-0500
TZNAME:CDT
DTSTART:20190310T080000
END:DAYLIGHT
BEGIN:STANDARD
TZOFFSETFROM:-0500
TZOFFSETTO:-0600
TZNAME:CST
DTSTART:20191103T070000
END:STANDARD
END:VTIMEZONE
BEGIN:VEVENT
DTSTART;TZID=America/Chicago:20181011T170000
DTEND;TZID=America/Chicago:20181011T200000
DTSTAMP:20260425T062825
CREATED:20181003T154741Z
LAST-MODIFIED:20181003T154741Z
UID:10002173-1539277200-1539288000@www.tourwestalabama.com
SUMMARY:Yuengling Brews & 'Que at The University Club
DESCRIPTION:Yuengling and The University Club present Brews and ‘Que! This year’s annual beer tasting will be open to the public! Enjoy delicious BBQ featuring Yuengling brews\, sauces\, and seasonings for a night of fun!\nAdmission is $25/person\, and reservations are required.\nPlease call 205-348-4848 or email ucevents@uclub.ua.edu for reservations!
URL:https://www.tourwestalabama.com/event/yuengling-brews-que-at-the-university-club/
LOCATION:The University Club\, 421 Queen City Avenue\, Tuscaloosa\, 35401
ATTACH;FMTTYPE=image/jpeg:https://www.tourwestalabama.com/wp-content/uploads/2018/10/yuengling_orig.jpg
END:VEVENT
END:VCALENDAR