BEGIN:VCALENDAR
VERSION:2.0
PRODID:-//Visit West Alabama - ECPv6.15.20//NONSGML v1.0//EN
CALSCALE:GREGORIAN
METHOD:PUBLISH
X-WR-CALNAME:Visit West Alabama
X-ORIGINAL-URL:https://www.tourwestalabama.com
X-WR-CALDESC:Events for Visit West Alabama
REFRESH-INTERVAL;VALUE=DURATION:PT1H
X-Robots-Tag:noindex
X-PUBLISHED-TTL:PT1H
BEGIN:VTIMEZONE
TZID:America/Chicago
BEGIN:DAYLIGHT
TZOFFSETFROM:-0600
TZOFFSETTO:-0500
TZNAME:CDT
DTSTART:20170312T080000
END:DAYLIGHT
BEGIN:STANDARD
TZOFFSETFROM:-0500
TZOFFSETTO:-0600
TZNAME:CST
DTSTART:20171105T070000
END:STANDARD
BEGIN:DAYLIGHT
TZOFFSETFROM:-0600
TZOFFSETTO:-0500
TZNAME:CDT
DTSTART:20180311T080000
END:DAYLIGHT
BEGIN:STANDARD
TZOFFSETFROM:-0500
TZOFFSETTO:-0600
TZNAME:CST
DTSTART:20181104T070000
END:STANDARD
BEGIN:DAYLIGHT
TZOFFSETFROM:-0600
TZOFFSETTO:-0500
TZNAME:CDT
DTSTART:20190310T080000
END:DAYLIGHT
BEGIN:STANDARD
TZOFFSETFROM:-0500
TZOFFSETTO:-0600
TZNAME:CST
DTSTART:20191103T070000
END:STANDARD
END:VTIMEZONE
BEGIN:VEVENT
DTSTART;TZID=America/Chicago:20181025T180000
DTEND;TZID=America/Chicago:20181025T200000
DTSTAMP:20260424T223043
CREATED:20180801T181002Z
LAST-MODIFIED:20180801T181002Z
UID:10002168-1540490400-1540497600@www.tourwestalabama.com
SUMMARY:A Haunting at the Museum
DESCRIPTION:Join the Alabama Museum of Natural History and the The Gorgas House Museum to decide for yourself if the UA campus is really haunted during guided\, candlelit ghost walks around the Quad\, ghostly stories in the Museum and spooky crafts for the kids. Free and fun for all ages. 6:00-8:00 p.m.
URL:https://www.tourwestalabama.com/event/a-haunting-at-the-museum-2/
LOCATION:Alabama Museum of Natural History\, 427 6th Ave\, Tuscaloosa\, AL\, 35487\, United States
ATTACH;FMTTYPE=image/jpeg:https://www.tourwestalabama.com/wp-content/uploads/2018/08/2.jpg
ORGANIZER;CN="Alabama Museum of Natural History":MAILTO:almnh@ua.edu
GEO:33.2119011;-87.5438813
X-APPLE-STRUCTURED-LOCATION;VALUE=URI;X-ADDRESS=Alabama Museum of Natural History 427 6th Ave Tuscaloosa AL 35487 United States;X-APPLE-RADIUS=500;X-TITLE=427 6th Ave:geo:-87.5438813,33.2119011
END:VEVENT
END:VCALENDAR