BEGIN:VCALENDAR
VERSION:2.0
PRODID:-//Visit West Alabama - ECPv6.15.20//NONSGML v1.0//EN
CALSCALE:GREGORIAN
METHOD:PUBLISH
X-WR-CALNAME:Visit West Alabama
X-ORIGINAL-URL:https://www.tourwestalabama.com
X-WR-CALDESC:Events for Visit West Alabama
REFRESH-INTERVAL;VALUE=DURATION:PT1H
X-Robots-Tag:noindex
X-PUBLISHED-TTL:PT1H
BEGIN:VTIMEZONE
TZID:America/Chicago
BEGIN:DAYLIGHT
TZOFFSETFROM:-0600
TZOFFSETTO:-0500
TZNAME:CDT
DTSTART:20170312T080000
END:DAYLIGHT
BEGIN:STANDARD
TZOFFSETFROM:-0500
TZOFFSETTO:-0600
TZNAME:CST
DTSTART:20171105T070000
END:STANDARD
BEGIN:DAYLIGHT
TZOFFSETFROM:-0600
TZOFFSETTO:-0500
TZNAME:CDT
DTSTART:20180311T080000
END:DAYLIGHT
BEGIN:STANDARD
TZOFFSETFROM:-0500
TZOFFSETTO:-0600
TZNAME:CST
DTSTART:20181104T070000
END:STANDARD
BEGIN:DAYLIGHT
TZOFFSETFROM:-0600
TZOFFSETTO:-0500
TZNAME:CDT
DTSTART:20190310T080000
END:DAYLIGHT
BEGIN:STANDARD
TZOFFSETFROM:-0500
TZOFFSETTO:-0600
TZNAME:CST
DTSTART:20191103T070000
END:STANDARD
END:VTIMEZONE
BEGIN:VEVENT
DTSTART;TZID=America/Chicago:20181101T170000
DTEND;TZID=America/Chicago:20181101T200000
DTSTAMP:20260424T223136
CREATED:20180628T162001Z
LAST-MODIFIED:20180628T162001Z
UID:10001947-1541091600-1541102400@www.tourwestalabama.com
SUMMARY:November Art Night
DESCRIPTION:November Art Night features the opening of a show by the Crossroads Arts Alliance of Gordo\, Alamabam (Museum Gallery) and selections from Kentuck’s Permanent Collection (Teer Gallery). In the Courtyard of Wonders\, live music will be performed by Three-Eyed Cyclops. Kentuck’s 8 Studio Artists will have their studios open for demonstrations\, questions\, and buying art. Kentuck’s Gallery Shop will be open\, and we offer wine samples to members.
URL:https://www.tourwestalabama.com/event/november-art-night/
LOCATION:Kentuck Art Center\, 503 Main Avenue \, Northport \, AL\, 35473\, United States
GEO:33.2190841;-87.5782856
X-APPLE-STRUCTURED-LOCATION;VALUE=URI;X-ADDRESS=Kentuck Art Center 503 Main Avenue  Northport  AL 35473 United States;X-APPLE-RADIUS=500;X-TITLE=503 Main Avenue:geo:-87.5782856,33.2190841
END:VEVENT
BEGIN:VEVENT
DTSTART;TZID=America/Chicago:20181102T000000
DTEND;TZID=America/Chicago:20181104T000000
DTSTAMP:20260424T223136
CREATED:20180628T160603Z
LAST-MODIFIED:20180628T160603Z
UID:10001939-1541116800-1541289600@www.tourwestalabama.com
SUMMARY:ACTFest 2019 Community Theatre Festival
DESCRIPTION:The Public is Invited to Attend: Open seating throughout the festival. The festival typically presents three to five shows per day\, each one limited to sixty minutes or less. Each cast and crew have ten minutes to get their set out of a 10×10 square of backstage storage\, and get it ready for “curtain.” After the performance professional adjudicators give their analysis to the cast\, director\, and crew. Thus\, everyone in the audience gets to see excellent theater\, followed by positive\, enlightening and engaging critiques. Festivals have an awards party where the show that will go on to the next level is announced\, and awards for acting\, directing and producing are given.
URL:https://www.tourwestalabama.com/event/actfest-2019-community-theatre-festival/
ATTACH;FMTTYPE=image/jpeg:https://www.tourwestalabama.com/wp-content/uploads/2018/06/slide_actlogo_2012.jpg
END:VEVENT
END:VCALENDAR