BEGIN:VCALENDAR
VERSION:2.0
PRODID:-//Visit West Alabama - ECPv6.15.20//NONSGML v1.0//EN
CALSCALE:GREGORIAN
METHOD:PUBLISH
X-ORIGINAL-URL:https://www.tourwestalabama.com
X-WR-CALDESC:Events for Visit West Alabama
REFRESH-INTERVAL;VALUE=DURATION:PT1H
X-Robots-Tag:noindex
X-PUBLISHED-TTL:PT1H
BEGIN:VTIMEZONE
TZID:America/Chicago
BEGIN:DAYLIGHT
TZOFFSETFROM:-0600
TZOFFSETTO:-0500
TZNAME:CDT
DTSTART:20150308T080000
END:DAYLIGHT
BEGIN:STANDARD
TZOFFSETFROM:-0500
TZOFFSETTO:-0600
TZNAME:CST
DTSTART:20151101T070000
END:STANDARD
BEGIN:DAYLIGHT
TZOFFSETFROM:-0600
TZOFFSETTO:-0500
TZNAME:CDT
DTSTART:20160313T080000
END:DAYLIGHT
BEGIN:STANDARD
TZOFFSETFROM:-0500
TZOFFSETTO:-0600
TZNAME:CST
DTSTART:20161106T070000
END:STANDARD
BEGIN:DAYLIGHT
TZOFFSETFROM:-0600
TZOFFSETTO:-0500
TZNAME:CDT
DTSTART:20170312T080000
END:DAYLIGHT
BEGIN:STANDARD
TZOFFSETFROM:-0500
TZOFFSETTO:-0600
TZNAME:CST
DTSTART:20171105T070000
END:STANDARD
BEGIN:DAYLIGHT
TZOFFSETFROM:-0600
TZOFFSETTO:-0500
TZNAME:CDT
DTSTART:20180311T080000
END:DAYLIGHT
BEGIN:STANDARD
TZOFFSETFROM:-0500
TZOFFSETTO:-0600
TZNAME:CST
DTSTART:20181104T070000
END:STANDARD
BEGIN:DAYLIGHT
TZOFFSETFROM:-0600
TZOFFSETTO:-0500
TZNAME:CDT
DTSTART:20190310T080000
END:DAYLIGHT
BEGIN:STANDARD
TZOFFSETFROM:-0500
TZOFFSETTO:-0600
TZNAME:CST
DTSTART:20191103T070000
END:STANDARD
BEGIN:DAYLIGHT
TZOFFSETFROM:-0600
TZOFFSETTO:-0500
TZNAME:CDT
DTSTART:20200308T080000
END:DAYLIGHT
BEGIN:STANDARD
TZOFFSETFROM:-0500
TZOFFSETTO:-0600
TZNAME:CST
DTSTART:20201101T070000
END:STANDARD
BEGIN:DAYLIGHT
TZOFFSETFROM:-0600
TZOFFSETTO:-0500
TZNAME:CDT
DTSTART:20210314T080000
END:DAYLIGHT
BEGIN:STANDARD
TZOFFSETFROM:-0500
TZOFFSETTO:-0600
TZNAME:CST
DTSTART:20211107T070000
END:STANDARD
BEGIN:DAYLIGHT
TZOFFSETFROM:-0600
TZOFFSETTO:-0500
TZNAME:CDT
DTSTART:20220313T080000
END:DAYLIGHT
BEGIN:STANDARD
TZOFFSETFROM:-0500
TZOFFSETTO:-0600
TZNAME:CST
DTSTART:20221106T070000
END:STANDARD
BEGIN:DAYLIGHT
TZOFFSETFROM:-0600
TZOFFSETTO:-0500
TZNAME:CDT
DTSTART:20230312T080000
END:DAYLIGHT
BEGIN:STANDARD
TZOFFSETFROM:-0500
TZOFFSETTO:-0600
TZNAME:CST
DTSTART:20231105T070000
END:STANDARD
BEGIN:DAYLIGHT
TZOFFSETFROM:-0600
TZOFFSETTO:-0500
TZNAME:CDT
DTSTART:20240310T080000
END:DAYLIGHT
BEGIN:STANDARD
TZOFFSETFROM:-0500
TZOFFSETTO:-0600
TZNAME:CST
DTSTART:20241103T070000
END:STANDARD
BEGIN:DAYLIGHT
TZOFFSETFROM:-0600
TZOFFSETTO:-0500
TZNAME:CDT
DTSTART:20250309T080000
END:DAYLIGHT
BEGIN:STANDARD
TZOFFSETFROM:-0500
TZOFFSETTO:-0600
TZNAME:CST
DTSTART:20251102T070000
END:STANDARD
BEGIN:DAYLIGHT
TZOFFSETFROM:-0600
TZOFFSETTO:-0500
TZNAME:CDT
DTSTART:20260308T080000
END:DAYLIGHT
BEGIN:STANDARD
TZOFFSETFROM:-0500
TZOFFSETTO:-0600
TZNAME:CST
DTSTART:20261101T070000
END:STANDARD
END:VTIMEZONE
BEGIN:VEVENT
DTSTART;TZID=America/Chicago:20250913T090000
DTEND;TZID=America/Chicago:20250913T150000
DTSTAMP:20260420T045629
CREATED:20250602T190953Z
LAST-MODIFIED:20250602T190953Z
UID:10003402-1757754000-1757775600@www.tourwestalabama.com
SUMMARY:Fayette Arts Festival
DESCRIPTION:Annual outdoor community event for Artists\, craftsmen\, folk artists and food vendors to share and sell their talents to the public. A way for the Fayette Art Museum to keep arts in our community.
URL:https://www.tourwestalabama.com/event/fayette-arts-festival/
LOCATION:Fayette Art Museum\, 530 Temple Avenue North\, Fayette\, AL\, 35555\, United States
ATTACH;FMTTYPE=image/jpeg:https://www.tourwestalabama.com/wp-content/uploads/2025/06/download-3.jpeg
GEO:33.6902119;-87.8305945
X-APPLE-STRUCTURED-LOCATION;VALUE=URI;X-ADDRESS=Fayette Art Museum 530 Temple Avenue North Fayette AL 35555 United States;X-APPLE-RADIUS=500;X-TITLE=530 Temple Avenue North:geo:-87.8305945,33.6902119
END:VEVENT
BEGIN:VEVENT
DTSTART;TZID=America/Chicago:20210101T090000
DTEND;TZID=America/Chicago:20210101T160000
DTSTAMP:20260420T045629
CREATED:20200219T163653Z
LAST-MODIFIED:20200219T163653Z
UID:10002363-1609491600-1609516800@www.tourwestalabama.com
SUMMARY:14th Annual Fayette Art Museum Festival of Trees
DESCRIPTION:Free Christmas event with decorated trees throughout the Civic Center/Art Museum. Each tree has a theme and is decorated by local artists\, collectors\, businesses\, schools\, church youth groups\, Day Cares\, and/or school & community organizations. There are more than 2 trees per room throughout the entire building! It is a beautiful setting for family pictures or families to host Christmas events. Opening Reception during the Christmas season call for the date. Free and open to the public Monday thru Friday\, 9am-12pm & 1-4pm. Call 205-932-8727 to book group tours or for other times to tour.
URL:https://www.tourwestalabama.com/event/14th-annual-fayette-art-museum-festival-of-trees/2021-01-01/
LOCATION:Fayette Art Museum\, 530 Temple Avenue North\, Fayette\, AL\, 35555\, United States
ATTACH;FMTTYPE=image/jpeg:https://www.tourwestalabama.com/wp-content/uploads/2020/02/festival-of-trees-scaled.jpg
GEO:33.6902119;-87.8305945
X-APPLE-STRUCTURED-LOCATION;VALUE=URI;X-ADDRESS=Fayette Art Museum 530 Temple Avenue North Fayette AL 35555 United States;X-APPLE-RADIUS=500;X-TITLE=530 Temple Avenue North:geo:-87.8305945,33.6902119
END:VEVENT
BEGIN:VEVENT
DTSTART;TZID=America/Chicago:20200912T090000
DTEND;TZID=America/Chicago:20200912T150000
DTSTAMP:20260420T045629
CREATED:20200219T162638Z
LAST-MODIFIED:20200219T162638Z
UID:10002338-1599901200-1599922800@www.tourwestalabama.com
SUMMARY:51st Annual Fayette Arts Festival
DESCRIPTION:51st Annual Fayette Arts Festival. The festival will take place at the Guthrie Smith Park–A great outdoor event for the entire family. The event is sponsored by the Fayette Art Museum. The entertainment will be live\, local groups/individuals which will provide a musical backdrop to the juried\, handmade fine art\, folk art and crafts along with free children’s art activities sponsored by local businesses\, and with a variety of food. For more information\, call 205-932-8727.
URL:https://www.tourwestalabama.com/event/51st-annual-fayette-arts-festival/
LOCATION:Guthrie Smith Park\, 430 North Temple Avenue \, Fayette\, AL\, 35555\, United States
ATTACH;FMTTYPE=image/jpeg:https://www.tourwestalabama.com/wp-content/uploads/2020/02/fayette-arts-festival.jpg
GEO:33.6888124;-87.8306886
X-APPLE-STRUCTURED-LOCATION;VALUE=URI;X-ADDRESS=Guthrie Smith Park 430 North Temple Avenue  Fayette AL 35555 United States;X-APPLE-RADIUS=500;X-TITLE=430 North Temple Avenue:geo:-87.8306886,33.6888124
END:VEVENT
BEGIN:VEVENT
DTSTART;VALUE=DATE:20161127
DTEND;VALUE=DATE:20161203
DTSTAMP:20260420T045629
CREATED:20160523T163132Z
LAST-MODIFIED:20160523T163132Z
UID:10001803-1480204800-1480723199@www.tourwestalabama.com
SUMMARY:Fayette Art Museum Festival of Trees
DESCRIPTION:Free Christmas event with decorated trees throughout the Civic Center/Art Museum. Each tree has a theme and is decorated by local artists\, collectors\, businesses\, schools\, church youth groups\, Day Cares\, and/or school & community organizations. There are more than 2 trees per room throughout the entire building! It is a beautiful setting for family pictures or families to host Christmas events. Opening Reception\, Sunday\, November 27\, 1:30-3:00. Free and open to the public Monday thru Friday\, 9am-12pm & 1-4pm. Call 205-932-8727 to book group tours or for other times to tour.
URL:https://www.tourwestalabama.com/event/fayette-art-museum-festival-of-trees/
LOCATION:Fayette Art Museum\, 530 Temple Avenue North\, Fayette\, AL\, 35555\, United States
ATTACH;FMTTYPE=image/jpeg:https://www.tourwestalabama.com/wp-content/uploads/2016/05/slide_dscn2707.jpg
GEO:33.6902119;-87.8305945
X-APPLE-STRUCTURED-LOCATION;VALUE=URI;X-ADDRESS=Fayette Art Museum 530 Temple Avenue North Fayette AL 35555 United States;X-APPLE-RADIUS=500;X-TITLE=530 Temple Avenue North:geo:-87.8305945,33.6902119
END:VEVENT
BEGIN:VEVENT
DTSTART;TZID=America/Chicago:20160910T090000
DTEND;TZID=America/Chicago:20160910T160000
DTSTAMP:20260420T045629
CREATED:20160204T173126Z
LAST-MODIFIED:20160204T173126Z
UID:10001879-1473498000-1473523200@www.tourwestalabama.com
SUMMARY:Fayette Arts Festival\, 47th Annual
DESCRIPTION:Guthrie Smith Park–A great outdoor event for the entire family\, this festival is the longest consecutive running festival in Alabama. Sponsored by the Fayette Art Museum\, it features live\, local entertainment which provides a musical backdrop to the juried handmade fine art\, folk art and crafts and free children’s art activities\, and a variety of food. 9 a.m.-4 p.m.
URL:https://www.tourwestalabama.com/event/fayette-arts-festival-47th-annual/
LOCATION:Guthrie Smith Park\, 430 North Temple Avenue \, Fayette\, AL\, 35555\, United States
ATTACH;FMTTYPE=image/jpeg:https://www.tourwestalabama.com/wp-content/uploads/2016/02/slide_sany1689.jpg
GEO:33.6888124;-87.8306886
X-APPLE-STRUCTURED-LOCATION;VALUE=URI;X-ADDRESS=Guthrie Smith Park 430 North Temple Avenue  Fayette AL 35555 United States;X-APPLE-RADIUS=500;X-TITLE=430 North Temple Avenue:geo:-87.8306886,33.6888124
END:VEVENT
END:VCALENDAR