BEGIN:VCALENDAR
VERSION:2.0
PRODID:-//Visit West Alabama - ECPv6.15.20//NONSGML v1.0//EN
CALSCALE:GREGORIAN
METHOD:PUBLISH
X-WR-CALNAME:Visit West Alabama
X-ORIGINAL-URL:https://www.tourwestalabama.com
X-WR-CALDESC:Events for Visit West Alabama
REFRESH-INTERVAL;VALUE=DURATION:PT1H
X-Robots-Tag:noindex
X-PUBLISHED-TTL:PT1H
BEGIN:VTIMEZONE
TZID:America/Chicago
BEGIN:DAYLIGHT
TZOFFSETFROM:-0600
TZOFFSETTO:-0500
TZNAME:CDT
DTSTART:20180311T080000
END:DAYLIGHT
BEGIN:STANDARD
TZOFFSETFROM:-0500
TZOFFSETTO:-0600
TZNAME:CST
DTSTART:20181104T070000
END:STANDARD
BEGIN:DAYLIGHT
TZOFFSETFROM:-0600
TZOFFSETTO:-0500
TZNAME:CDT
DTSTART:20190310T080000
END:DAYLIGHT
BEGIN:STANDARD
TZOFFSETFROM:-0500
TZOFFSETTO:-0600
TZNAME:CST
DTSTART:20191103T070000
END:STANDARD
BEGIN:DAYLIGHT
TZOFFSETFROM:-0600
TZOFFSETTO:-0500
TZNAME:CDT
DTSTART:20200308T080000
END:DAYLIGHT
BEGIN:STANDARD
TZOFFSETFROM:-0500
TZOFFSETTO:-0600
TZNAME:CST
DTSTART:20201101T070000
END:STANDARD
END:VTIMEZONE
BEGIN:VEVENT
DTSTART;VALUE=DATE:20190430
DTEND;VALUE=DATE:20190530
DTSTAMP:20260422T000212
CREATED:20190321T154310Z
LAST-MODIFIED:20190321T154310Z
UID:10002274-1556582400-1559174399@www.tourwestalabama.com
SUMMARY:Making Alabama: A Bicentennial Traveling Exhibit in Bibb County
DESCRIPTION:Making Alabama: A Bicentennial Traveling Exhibit is a statewide celebration of 200 years of statehood presented by Alabama Humanities Foundation in partnership with Alabama Department of Archives and History and Alabama Bicentennial Commission. \nThe exhibit will feature interactive displays\, locally created exhibits and events\, and an impressive display of Alabama’s history.
URL:https://www.tourwestalabama.com/event/making-alabama-a-bicentennial-traveling-exhibit-in-bibb-county/2019-04-30/
LOCATION:Bibb County Board of Education\, 721 Walnut Street\, Centreville\, AL\, 35042\, United States
ATTACH;FMTTYPE=image/jpeg:https://www.tourwestalabama.com/wp-content/uploads/2019/03/alabama-bicentennial-traveling-exhibit.jpg
END:VEVENT
END:VCALENDAR