BEGIN:VCALENDAR
VERSION:2.0
PRODID:-//Visit West Alabama - ECPv6.15.20//NONSGML v1.0//EN
CALSCALE:GREGORIAN
METHOD:PUBLISH
X-ORIGINAL-URL:https://www.tourwestalabama.com
X-WR-CALDESC:Events for Visit West Alabama
REFRESH-INTERVAL;VALUE=DURATION:PT1H
X-Robots-Tag:noindex
X-PUBLISHED-TTL:PT1H
BEGIN:VTIMEZONE
TZID:America/Chicago
BEGIN:DAYLIGHT
TZOFFSETFROM:-0600
TZOFFSETTO:-0500
TZNAME:CDT
DTSTART:20140309T080000
END:DAYLIGHT
BEGIN:STANDARD
TZOFFSETFROM:-0500
TZOFFSETTO:-0600
TZNAME:CST
DTSTART:20141102T070000
END:STANDARD
BEGIN:DAYLIGHT
TZOFFSETFROM:-0600
TZOFFSETTO:-0500
TZNAME:CDT
DTSTART:20150308T080000
END:DAYLIGHT
BEGIN:STANDARD
TZOFFSETFROM:-0500
TZOFFSETTO:-0600
TZNAME:CST
DTSTART:20151101T070000
END:STANDARD
BEGIN:DAYLIGHT
TZOFFSETFROM:-0600
TZOFFSETTO:-0500
TZNAME:CDT
DTSTART:20160313T080000
END:DAYLIGHT
BEGIN:STANDARD
TZOFFSETFROM:-0500
TZOFFSETTO:-0600
TZNAME:CST
DTSTART:20161106T070000
END:STANDARD
BEGIN:DAYLIGHT
TZOFFSETFROM:-0600
TZOFFSETTO:-0500
TZNAME:CDT
DTSTART:20170312T080000
END:DAYLIGHT
BEGIN:STANDARD
TZOFFSETFROM:-0500
TZOFFSETTO:-0600
TZNAME:CST
DTSTART:20171105T070000
END:STANDARD
BEGIN:DAYLIGHT
TZOFFSETFROM:-0600
TZOFFSETTO:-0500
TZNAME:CDT
DTSTART:20180311T080000
END:DAYLIGHT
BEGIN:STANDARD
TZOFFSETFROM:-0500
TZOFFSETTO:-0600
TZNAME:CST
DTSTART:20181104T070000
END:STANDARD
BEGIN:DAYLIGHT
TZOFFSETFROM:-0600
TZOFFSETTO:-0500
TZNAME:CDT
DTSTART:20190310T080000
END:DAYLIGHT
BEGIN:STANDARD
TZOFFSETFROM:-0500
TZOFFSETTO:-0600
TZNAME:CST
DTSTART:20191103T070000
END:STANDARD
END:VTIMEZONE
BEGIN:VEVENT
DTSTART;TZID=America/Chicago:20181018T173000
DTEND;TZID=America/Chicago:20181018T193000
DTSTAMP:20260419T082906
CREATED:20181003T160041Z
LAST-MODIFIED:20181003T160041Z
UID:10002174-1539883800-1539891000@www.tourwestalabama.com
SUMMARY:13th Annual Halloween Spooktacular at CHOM!
DESCRIPTION:Come out for the 13th Annual Halloween Spooktacular at CHOM! The event will be held Thursday\, October 18\, 2018 5:30 – 7:30 pm.\nCHOM closes at 4:30 & re-opens at 5:30 pm\nCostume + Food Bank item = Admission for each person\, adults too! You can purchase tickets for carnival games at the event. For more information call 205-349-4235.
URL:https://www.tourwestalabama.com/event/13th-annual-halloween-spooktacular-at-chom/
LOCATION:Children’s Hands-On Museum\, 2213 University Blvd\, Tuscaloosa\, AL\, 35401\, United States
ATTACH;FMTTYPE=image/jpeg:https://www.tourwestalabama.com/wp-content/uploads/2018/10/halloween-spooktacular-10-18_orig.jpg
GEO:33.2100725;-87.5661548
X-APPLE-STRUCTURED-LOCATION;VALUE=URI;X-ADDRESS=Children’s Hands-On Museum 2213 University Blvd Tuscaloosa AL 35401 United States;X-APPLE-RADIUS=500;X-TITLE=2213 University Blvd:geo:-87.5661548,33.2100725
END:VEVENT
BEGIN:VEVENT
DTSTART;TZID=America/Chicago:20180728T090000
DTEND;TZID=America/Chicago:20180728T163000
DTSTAMP:20260419T082906
CREATED:20180628T160825Z
LAST-MODIFIED:20180628T160825Z
UID:10001933-1532768400-1532795400@www.tourwestalabama.com
SUMMARY:Hogwarts Day at The Children's Hands-On Museum
DESCRIPTION:Hogwarts Day at CHOM! Saturday July 28\, 2018 9 am – 4:30 pm Design your own wand! Create your House Tie! Adopt a magical creature! Potions demonstrations! Have a Chocolate Frog! Try some “Every Flavor Beans!” Costumes Welcome!!!
URL:https://www.tourwestalabama.com/event/hogwarts-day-at-the-childrens-hands-on-museum/
LOCATION:Children’s Hands-On Museum\, 2213 University Blvd\, Tuscaloosa\, AL\, 35401\, United States
GEO:33.2100725;-87.5661548
X-APPLE-STRUCTURED-LOCATION;VALUE=URI;X-ADDRESS=Children’s Hands-On Museum 2213 University Blvd Tuscaloosa AL 35401 United States;X-APPLE-RADIUS=500;X-TITLE=2213 University Blvd:geo:-87.5661548,33.2100725
END:VEVENT
BEGIN:VEVENT
DTSTART;TZID=America/Chicago:20160806T100000
DTEND;TZID=America/Chicago:20160806T160000
DTSTAMP:20260419T082906
CREATED:20160718T151319Z
LAST-MODIFIED:20160718T151319Z
UID:10001946-1470477600-1470499200@www.tourwestalabama.com
SUMMARY:Goodbye Summer Fiesta at CHOM!
DESCRIPTION:Goodbye Summer Fiesta at CHOM! Saturday\, August 6\, 2016 10 am – 4 pm Sample Fiesta Foods Courtesy of Jalapeno’s! Folklore! Crafts! Piñata’s! Dance to Music by DJ Chuckie! All activities included in admission!
URL:https://www.tourwestalabama.com/event/goodbye-summer-fiesta-at-chom/
LOCATION:Children’s Hands-On Museum\, 2213 University Blvd\, Tuscaloosa\, AL\, 35401\, United States
ATTACH;FMTTYPE=image/png:https://www.tourwestalabama.com/wp-content/uploads/2016/07/Screen-Shot-2016-07-18-at-10.12.48-AM.png
GEO:33.2100725;-87.5661548
X-APPLE-STRUCTURED-LOCATION;VALUE=URI;X-ADDRESS=Children’s Hands-On Museum 2213 University Blvd Tuscaloosa AL 35401 United States;X-APPLE-RADIUS=500;X-TITLE=2213 University Blvd:geo:-87.5661548,33.2100725
END:VEVENT
BEGIN:VEVENT
DTSTART;VALUE=DATE:20160614
DTEND;VALUE=DATE:20160629
DTSTAMP:20260419T082906
CREATED:20160523T170003Z
LAST-MODIFIED:20160523T170003Z
UID:10001809-1465862400-1467158399@www.tourwestalabama.com
SUMMARY:Summer LEGO Camps at CHOM!
DESCRIPTION:This Summer’s Themes are: “Motor Mayhem” and “Terrific Towers”! 2 Age Groups: 6-8 years * 9-13 years Morning Session: 9:30-12:00 Noon Afternoon Session: 1:00-3:30 pm 3 Camp Dates! Camp 1: June 14\,15\,16 Camp 2: July 12\,13\,14 Camp 3” July 26\,27\,28 Early Pre-Registration is Suggested! How to Register: Phone: Carla (205)-349-4235 Ext.24 Email: carla@chomonline.org Online: www.chomonline.org Please see Event Flyer or visit www.chomonline.org for Pricing and Registration.
URL:https://www.tourwestalabama.com/event/summer-lego-camps-at-chom/
LOCATION:Children’s Hands-On Museum\, 2213 University Blvd\, Tuscaloosa\, AL\, 35401\, United States
ATTACH;FMTTYPE=image/jpeg:https://www.tourwestalabama.com/wp-content/uploads/2016/05/slide_lego_summer_revised.jpg
GEO:33.2100725;-87.5661548
X-APPLE-STRUCTURED-LOCATION;VALUE=URI;X-ADDRESS=Children’s Hands-On Museum 2213 University Blvd Tuscaloosa AL 35401 United States;X-APPLE-RADIUS=500;X-TITLE=2213 University Blvd:geo:-87.5661548,33.2100725
END:VEVENT
BEGIN:VEVENT
DTSTART;TZID=America/Chicago:20160611T100000
DTEND;TZID=America/Chicago:20160611T160000
DTSTAMP:20260419T082906
CREATED:20160523T165750Z
LAST-MODIFIED:20160523T165750Z
UID:10001807-1465639200-1465660800@www.tourwestalabama.com
SUMMARY:Dairy Day at CHOM!
DESCRIPTION:“Dairy Day” at CHOM! Saturday\, June 11\, 2016 10 am – 4 pm Bring your friends with you to CHOM! Make a Cow Mask! Churn Fresh Butter! Chocolate Milk Samples Ice Cream Floats! All included in Paid Admission!
URL:https://www.tourwestalabama.com/event/dairy-day-at-chom/
LOCATION:Children’s Hands-On Museum\, 2213 University Blvd\, Tuscaloosa\, AL\, 35401\, United States
ATTACH;FMTTYPE=image/jpeg:https://www.tourwestalabama.com/wp-content/uploads/2016/05/slide_dairy_day__resized.jpg
GEO:33.2100725;-87.5661548
X-APPLE-STRUCTURED-LOCATION;VALUE=URI;X-ADDRESS=Children’s Hands-On Museum 2213 University Blvd Tuscaloosa AL 35401 United States;X-APPLE-RADIUS=500;X-TITLE=2213 University Blvd:geo:-87.5661548,33.2100725
END:VEVENT
BEGIN:VEVENT
DTSTART;TZID=America/Chicago:20160604T100000
DTEND;TZID=America/Chicago:20160604T160000
DTSTAMP:20260419T082906
CREATED:20160523T165555Z
LAST-MODIFIED:20160523T165555Z
UID:10001805-1465034400-1465056000@www.tourwestalabama.com
SUMMARY:Summer Luau at CHOM!
DESCRIPTION:Summer Luau at CHOM! Saturday\, June 4\, 2016 10 am – 4 pm Dance with DJ Chuckie! Learn to Hula and do the Limbo dance! Sip on Fruity Drinks! Wear colorful Leis! All activities included in Admission!
URL:https://www.tourwestalabama.com/event/summer-luau-at-chom/
LOCATION:Children’s Hands-On Museum\, 2213 University Blvd\, Tuscaloosa\, AL\, 35401\, United States
ATTACH;FMTTYPE=image/jpeg:https://www.tourwestalabama.com/wp-content/uploads/2016/05/slide_sum._luau2_revised.jpg
GEO:33.2100725;-87.5661548
X-APPLE-STRUCTURED-LOCATION;VALUE=URI;X-ADDRESS=Children’s Hands-On Museum 2213 University Blvd Tuscaloosa AL 35401 United States;X-APPLE-RADIUS=500;X-TITLE=2213 University Blvd:geo:-87.5661548,33.2100725
END:VEVENT
BEGIN:VEVENT
DTSTART;TZID=America/Chicago:20160326T100000
DTEND;TZID=America/Chicago:20160416T150000
DTSTAMP:20260419T082906
CREATED:20160309T191108Z
LAST-MODIFIED:20160309T191108Z
UID:10001792-1458986400-1460818800@www.tourwestalabama.com
SUMMARY:Sakura Festival at CHOM
DESCRIPTION:Celebrate the Sakura Festival all March! Visit the Japanese House exhibit with Beautiful pieces on display in the Tokonoma! Each Saturday there will be a different Fun Craft Activity. All activities included in admission.
URL:https://www.tourwestalabama.com/event/sakura-festival-at-chom/2016-03-26/
LOCATION:Children’s Hands-On Museum\, 2213 University Blvd\, Tuscaloosa\, AL\, 35401\, United States
ATTACH;FMTTYPE=image/jpeg:https://www.tourwestalabama.com/wp-content/uploads/2016/03/slide_sakura_festival_2016_revised.jpg
GEO:33.2100725;-87.5661548
X-APPLE-STRUCTURED-LOCATION;VALUE=URI;X-ADDRESS=Children’s Hands-On Museum 2213 University Blvd Tuscaloosa AL 35401 United States;X-APPLE-RADIUS=500;X-TITLE=2213 University Blvd:geo:-87.5661548,33.2100725
END:VEVENT
BEGIN:VEVENT
DTSTART;TZID=America/Chicago:20160127T080000
DTEND;TZID=America/Chicago:20160127T170000
DTSTAMP:20260419T082906
CREATED:20160127T172006Z
LAST-MODIFIED:20160127T172006Z
UID:10001853-1453881600-1453914000@www.tourwestalabama.com
SUMMARY:FUN FRIDAY NIGHT AT CHOM
DESCRIPTION:Friday\, Jan. 29\, 5 to 7 p.m. Children’s Hands on Museum\, downtown Tuscaloosa. For more information and events\, visit chomonline.org or call (205) 349-4276
URL:https://www.tourwestalabama.com/event/fun-friday-night-at-chom/
LOCATION:Children’s Hands-On Museum\, 2213 University Blvd\, Tuscaloosa\, AL\, 35401\, United States
ATTACH;FMTTYPE=image/png:https://www.tourwestalabama.com/wp-content/uploads/2016/01/1435692067.png
GEO:33.2100725;-87.5661548
X-APPLE-STRUCTURED-LOCATION;VALUE=URI;X-ADDRESS=Children’s Hands-On Museum 2213 University Blvd Tuscaloosa AL 35401 United States;X-APPLE-RADIUS=500;X-TITLE=2213 University Blvd:geo:-87.5661548,33.2100725
END:VEVENT
BEGIN:VEVENT
DTSTART;TZID=America/Chicago:20151205T080000
DTEND;TZID=America/Chicago:20151205T133000
DTSTAMP:20260419T082906
CREATED:20151203T213612Z
LAST-MODIFIED:20151203T213612Z
UID:10001835-1449302400-1449322200@www.tourwestalabama.com
SUMMARY:Candyland Breakfast with Santa & Mrs. Claus
DESCRIPTION:BREAKFASTS 8:00 am -9:30 am or\n10:00 am -11:30 am\nBRUNCH 12:00 pm – 1:30 pm\n4 or more $14 person\n$15 person\nMuseum members $13 person \nBring a camera for pictures with Santa and Mrs. Claus! \nJoin Santa\, Mrs. Claus and Elsa as they dance with Santa’s Elves\, Rudolph\, and Frosty at the Reindeer Hop. Music by DJ Chuckie.\nStay and play in exhibits and make holiday crafts in the Elf Workshop!
URL:https://www.tourwestalabama.com/event/candyland-breakfast-with-santa-mrs-claus/
LOCATION:Children’s Hands-On Museum\, 2213 University Blvd\, Tuscaloosa\, AL\, 35401\, United States
ATTACH;FMTTYPE=image/jpeg:https://www.tourwestalabama.com/wp-content/uploads/2015/12/4139888.jpg
GEO:33.2100725;-87.5661548
X-APPLE-STRUCTURED-LOCATION;VALUE=URI;X-ADDRESS=Children’s Hands-On Museum 2213 University Blvd Tuscaloosa AL 35401 United States;X-APPLE-RADIUS=500;X-TITLE=2213 University Blvd:geo:-87.5661548,33.2100725
END:VEVENT
BEGIN:VEVENT
DTSTART;VALUE=DATE:20150721
DTEND;VALUE=DATE:20150722
DTSTAMP:20260419T082906
CREATED:20150518T153339Z
LAST-MODIFIED:20150518T153339Z
UID:10001764-1437436800-1437523199@www.tourwestalabama.com
SUMMARY:Summer LEGO Camp
DESCRIPTION:July 21\,22\, and 23. There will be a morning and afternoon session. 9:30 a.m.-12 p.m. or 1p.m.-3:30 p.m. There will be 2 age groups. Please visit the website for more details about pricing and reservations or contact Carla Bailey at 205-349-4235. \n 
URL:https://www.tourwestalabama.com/event/summer-lego-camp/
LOCATION:Children’s Hands-On Museum\, 2213 University Blvd\, Tuscaloosa\, AL\, 35401\, United States
ATTACH;FMTTYPE=image/gif:https://www.tourwestalabama.com/wp-content/uploads/2015/05/4765895.gif
GEO:33.2100725;-87.5661548
X-APPLE-STRUCTURED-LOCATION;VALUE=URI;X-ADDRESS=Children’s Hands-On Museum 2213 University Blvd Tuscaloosa AL 35401 United States;X-APPLE-RADIUS=500;X-TITLE=2213 University Blvd:geo:-87.5661548,33.2100725
END:VEVENT
END:VCALENDAR