BEGIN:VCALENDAR
VERSION:2.0
PRODID:-//Visit West Alabama - ECPv6.15.20//NONSGML v1.0//EN
CALSCALE:GREGORIAN
METHOD:PUBLISH
X-WR-CALNAME:Visit West Alabama
X-ORIGINAL-URL:https://www.tourwestalabama.com
X-WR-CALDESC:Events for Visit West Alabama
REFRESH-INTERVAL;VALUE=DURATION:PT1H
X-Robots-Tag:noindex
X-PUBLISHED-TTL:PT1H
BEGIN:VTIMEZONE
TZID:America/Chicago
BEGIN:DAYLIGHT
TZOFFSETFROM:-0600
TZOFFSETTO:-0500
TZNAME:CDT
DTSTART:20150308T080000
END:DAYLIGHT
BEGIN:STANDARD
TZOFFSETFROM:-0500
TZOFFSETTO:-0600
TZNAME:CST
DTSTART:20151101T070000
END:STANDARD
BEGIN:DAYLIGHT
TZOFFSETFROM:-0600
TZOFFSETTO:-0500
TZNAME:CDT
DTSTART:20160313T080000
END:DAYLIGHT
BEGIN:STANDARD
TZOFFSETFROM:-0500
TZOFFSETTO:-0600
TZNAME:CST
DTSTART:20161106T070000
END:STANDARD
BEGIN:DAYLIGHT
TZOFFSETFROM:-0600
TZOFFSETTO:-0500
TZNAME:CDT
DTSTART:20170312T080000
END:DAYLIGHT
BEGIN:STANDARD
TZOFFSETFROM:-0500
TZOFFSETTO:-0600
TZNAME:CST
DTSTART:20171105T070000
END:STANDARD
BEGIN:DAYLIGHT
TZOFFSETFROM:-0600
TZOFFSETTO:-0500
TZNAME:CDT
DTSTART:20180311T080000
END:DAYLIGHT
BEGIN:STANDARD
TZOFFSETFROM:-0500
TZOFFSETTO:-0600
TZNAME:CST
DTSTART:20181104T070000
END:STANDARD
BEGIN:DAYLIGHT
TZOFFSETFROM:-0600
TZOFFSETTO:-0500
TZNAME:CDT
DTSTART:20190310T080000
END:DAYLIGHT
BEGIN:STANDARD
TZOFFSETFROM:-0500
TZOFFSETTO:-0600
TZNAME:CST
DTSTART:20191103T070000
END:STANDARD
END:VTIMEZONE
BEGIN:VEVENT
DTSTART;TZID=America/Chicago:20180714T193000
DTEND;TZID=America/Chicago:20180714T213000
DTSTAMP:20260424T182106
CREATED:20180628T155142Z
LAST-MODIFIED:20180628T155142Z
UID:10001931-1531596600-1531603800@www.tourwestalabama.com
SUMMARY:Alabama Blues Week Concert
DESCRIPTION:Buy your tickets now for the Alabama Blues Week Concert. Renowned blues artists\, faculty and talented students will perform at the Moody Music Auditorium\, July 14 at 7:30 p.m. Tickets are $10 per person and may be purchased online at alblues.com or by calling 205-348-3000. Visit alblues.com for a full list of live blues performances scheduled in and around Tuscaloosa the week of July 9-15. Follow us on Facebook @alabamabluesproject and Twitter and Instagram @alblueweek
URL:https://www.tourwestalabama.com/event/alabama-blues-week-concert/
LOCATION:Moody Music Building\, 810 2nd Ave\, Tuscaloosa\, AL\, 35401\, United States
GEO:33.207445;-87.5384116
X-APPLE-STRUCTURED-LOCATION;VALUE=URI;X-ADDRESS=Moody Music Building 810 2nd Ave Tuscaloosa AL 35401 United States;X-APPLE-RADIUS=500;X-TITLE=810 2nd Ave:geo:-87.5384116,33.207445
END:VEVENT
BEGIN:VEVENT
DTSTART;TZID=America/Chicago:20170824T120000
DTEND;TZID=America/Chicago:20170824T170000
DTSTAMP:20260424T182106
CREATED:20170622T190537Z
LAST-MODIFIED:20170622T190900Z
UID:10002109-1503576000-1503594000@www.tourwestalabama.com
SUMMARY:"We Are Selma" Exhibition Opening
DESCRIPTION:We are Selma: The Selma Portrait Project by Kathryn Mayo\n\n\nAugust 24 – September 29\, 2017 \nDepartment of Art and Art History alumna Kathryn Mayo\, a native of Selma\, Alabama\, returns to her home territory to present an important exhibition: We Are Selma: The Selma Portrait Project. Mayo decided to return to Selma for her sabbatical leave from Cosumnes River College in Sacramento\, California\, where she serves as photography professor. She set up a makeshift studio in Selma and began creating large 11 x 14 inch wet plate collodion portraits of Selma residents and recording interviews with the participants. The exhibition beautifully reflects the sitter and their attachment to a city with such storied history. Mayo will present a lecture on her work on UA campus during the exhibition. The Sarah Moody Gallery of Art is supported by the College of Arts and Sciences and the Department of Art and Art History. For further information\, contact the gallery at 348-1891.
URL:https://www.tourwestalabama.com/event/we-are-selma-exhibition-opening/
LOCATION:Moody Music Building\, 810 2nd Ave\, Tuscaloosa\, AL\, 35401\, United States
ATTACH;FMTTYPE=image/jpeg:https://www.tourwestalabama.com/wp-content/uploads/2017/06/Portrait-project_ADD_02-web-622x350.jpg
GEO:33.207445;-87.5384116
X-APPLE-STRUCTURED-LOCATION;VALUE=URI;X-ADDRESS=Moody Music Building 810 2nd Ave Tuscaloosa AL 35401 United States;X-APPLE-RADIUS=500;X-TITLE=810 2nd Ave:geo:-87.5384116,33.207445
END:VEVENT
BEGIN:VEVENT
DTSTART;TZID=America/Chicago:20161212T190000
DTEND;TZID=America/Chicago:20161212T235500
DTSTAMP:20260424T182106
CREATED:20160719T163258Z
LAST-MODIFIED:20160719T163258Z
UID:10001973-1481569200-1481586900@www.tourwestalabama.com
SUMMARY:Tuscaloosa Symphony Orchestra's "Christmas Spectacular"
DESCRIPTION:MOODY MUSIC BUILDING CONCERT HALL\, 7:00PM Adam Flatt\, Conductor Alabama Choir School\, Doff Procter\, Artistic Director Prentice Concert Chorale\, Leslie Poss\, Director Join us in celebration forur annual sell-out gala\, Christmas Spectacular. Commemorate the season with both choral and orchestral works that bring the Christmas spirit to life. Cheers ‘n Chat will begin at 6:00 p.m. in the Choral Opera Room.
URL:https://www.tourwestalabama.com/event/tuscaloosa-symphony-orchestras-christmas-spectacular/
LOCATION:Moody Music Building\, 810 2nd Ave\, Tuscaloosa\, AL\, 35401\, United States
ATTACH;FMTTYPE=image/png:https://www.tourwestalabama.com/wp-content/uploads/2016/07/Screen-Shot-2016-07-19-at-11.32.46-AM.png
GEO:33.207445;-87.5384116
X-APPLE-STRUCTURED-LOCATION;VALUE=URI;X-ADDRESS=Moody Music Building 810 2nd Ave Tuscaloosa AL 35401 United States;X-APPLE-RADIUS=500;X-TITLE=810 2nd Ave:geo:-87.5384116,33.207445
END:VEVENT
BEGIN:VEVENT
DTSTART;TZID=America/Chicago:20160919T190000
DTEND;TZID=America/Chicago:20160919T235500
DTSTAMP:20260424T182106
CREATED:20160719T160224Z
LAST-MODIFIED:20160719T160224Z
UID:10001961-1474311600-1474329300@www.tourwestalabama.com
SUMMARY:Tuscaloosa Symphony Orchestra's "Orchestral Splendor"
DESCRIPTION:MOODY MUSIC BUILDING CONCERT HALL\, 7:00PM Adam Flatt\, Conductor This year’s opening concert is a must see! Works such as Griffes’ The White Peacock will take you to a place of awe and enlightenment in nature. In alliance with the commissioning project of New Music for America\, we are proud to debut Christopher Theofandis’ incredible tone poem for orchestra\, Dreamtime Ancestors. Based on the Aboriginal creation myths connected to ‘dreamtime’\, each of us are connected by our ‘dreamtime ancestors’ in the past\, present\, and future uniting us as family. Bring your family to experience the Alabama premiere of Dreamtime Ancestors; you can hear it only here! Meet composer\, Christopher Theofanidis\, at Cheers ‘n Chat as he joins the TSO for the Alabama premiere of his new orchestral work. Cheers ‘n Chat will begin at 6:00 p.m. in the Choral Opera Room.
URL:https://www.tourwestalabama.com/event/tuscaloosa-symphony-orchestras-orchestral-splendor/
LOCATION:Moody Music Building\, 810 2nd Ave\, Tuscaloosa\, AL\, 35401\, United States
ATTACH;FMTTYPE=image/png:https://www.tourwestalabama.com/wp-content/uploads/2016/07/Screen-Shot-2016-07-19-at-11.02.01-AM.png
GEO:33.207445;-87.5384116
X-APPLE-STRUCTURED-LOCATION;VALUE=URI;X-ADDRESS=Moody Music Building 810 2nd Ave Tuscaloosa AL 35401 United States;X-APPLE-RADIUS=500;X-TITLE=810 2nd Ave:geo:-87.5384116,33.207445
END:VEVENT
END:VCALENDAR